BEGIN:VCALENDAR
VERSION:2.0
PRODID:-//SAAB (formerly known as Student African American Brotherhood) - ECPv6.15.3//NONSGML v1.0//EN
CALSCALE:GREGORIAN
METHOD:PUBLISH
X-WR-CALNAME:SAAB (formerly known as Student African American Brotherhood)
X-ORIGINAL-URL:https://saabnational.org
X-WR-CALDESC:Events for SAAB (formerly known as Student African American Brotherhood)
REFRESH-INTERVAL;VALUE=DURATION:PT1H
X-Robots-Tag:noindex
X-PUBLISHED-TTL:PT1H
BEGIN:VTIMEZONE
TZID:UTC
BEGIN:STANDARD
TZOFFSETFROM:+0000
TZOFFSETTO:+0000
TZNAME:UTC
DTSTART:20200101T000000
END:STANDARD
END:VTIMEZONE
BEGIN:VEVENT
DTSTART;TZID=UTC:20250327T080000
DTEND;TZID=UTC:20250328T190000
DTSTAMP:20260424T001123
CREATED:20231115T194127Z
LAST-MODIFIED:20250315T211821Z
UID:1573-1743062400-1743188400@saabnational.org
SUMMARY:2nd Annual SAAB Student Leadership Summit March 2025
DESCRIPTION:2nd Annual SAAB Student Leadership Summit March 2025\nDouble Tree Hotel by Hilton\nSpringfield\, MO 63101\nThursday\, March\, 27th – Friday\, March\, 28th 2025\n\n \n\nSummit Theme:\n“Embracing The Future Smarter…Stronger…Successful”\n\n \nCan’t attend the National Conference\, but want to make a donation to support this event. Donate Below! \n\n   \n\nRegistration is Closed!!!!\n \n\nImportant Registration Notes:\n\n\nEvent Policies: Please Read SAAB Event Policies Prior To Registering.\nEvent Hotels Information: Please CLICK HERE for hotels information.\nEvent Speakers Information: Please CLICK HERE for hotels information.\nEvent Agenda Information: Please CLICK HERE to access the conference agenda.\nConference Do’s & Don’ts: Please CLICK HERE to access to Conference Do’s & Don’ts.\nConference Overall Evaluation: Please CLICK HERE to submit a conference evaluation.\n\n\n\n \nRegistration Dates and Deadlines\n\nEarly Registration Deadline Ends: Friday\, February 28\, 2025 \nLast Day to Register: Friday\, March 14\, 2025 \nAfter this deadline\, no additional registration accepted without permission of SAAB National Headquarters Registration deadline may be affected by space limitation\, if the conference closes out sooner than the day listed. \nFriday\, March 14\, 2024 – Registration Refund Deadline – Last day for any refund\n(Please refer to cancellation and refund policy)\n 
URL:https://saabnational.org/event/annual-saab-student-leadership-summit-march-2025/
LOCATION:Double Tree Hotel By Hilton\, 2431 N. Glenstone Avenue\, Springfield\, MO\, 65803\, United States
CATEGORIES:Regional Cluster Summits
END:VEVENT
BEGIN:VEVENT
DTSTART;TZID=UTC:20230303T100000
DTEND;TZID=UTC:20230304T193000
DTSTAMP:20260424T001123
CREATED:20221022T022811Z
LAST-MODIFIED:20230222T230517Z
UID:1408-1677837600-1677958200@saabnational.org
SUMMARY:March 2023 Conference - Discovering New Visions
DESCRIPTION:SAAB National Conference March 2023\nSt Louis\, MO 63101\nFriday\, March 3rd – Saturday\, March 4th 2023\n\n \n\nNational Conference Theme:\n“Discovering New Visions”\n\n \nCan’t attend the National Conference\, but want to make a donation to support this event. Donate Below! \n\n  \n\nRegistration is CLOSED!!!!\n \nImportant Registration Notes:\n\n\n\nEvent Policies: Please Read SAAB Event Policies Prior To Registering.\nEvent Hotels Information: Please CLICK HERE for hotels information.\nEvent Speakers Information: Please CLICK HERE for more information about the conference speakers.\nEvent Agenda Information: Please CLICK HERE to access to conference agenda.\nConference Do’s & Don’ts: Please CLICK HERE to access to Conference Do’s & Don’ts.\nConference Overall Evaluation: Please CLICK HERE to submit a conference evaluation.\n\n\n\nRegistration Dates and Deadlines\n\nEarly Registration Deadline Ends: Friday\, February 10th\, 2023 \nLast Day to Register: Friday\, February 17th\, 2023 \nAfter this deadline\, no additional registration accepted without permission of SAAB National Headquarters Registration deadline may be affected by space limitation\, if the conference closes out sooner than the day listed. \nFebruary 17th\, 2022 – Registration Refund Deadline – Last day for any refund\n(Please refer to cancellation and refund policy)
URL:https://saabnational.org/event/discoveringnewvisions/
LOCATION:St Louis\, MO
CATEGORIES:National Events
END:VEVENT
BEGIN:VEVENT
DTSTART;TZID=UTC:20220408T080000
DTEND;TZID=UTC:20220410T170000
DTSTAMP:20260424T001123
CREATED:20210925T040513Z
LAST-MODIFIED:20220328T164455Z
UID:878-1649404800-1649610000@saabnational.org
SUMMARY:SAAB National Conference April 2022 - Brothers Connecting At The Gateway
DESCRIPTION:SAAB National Conference March 2022\nSt Louis\, MO Metro Area-Chesterfield 63017\nFriday\, April 8th – Sunday\, April 10th\, 2022\n\n \n\nNational Conference Theme:\n“Brothers Connecting At The Gateway”\n\n \nCan’t attend the National Conference\, but want to make a donation to support this event. Donate Below! \n\n   \n\nRegistration is CLOSED!!!\n \nImportant Registration Notes:\n\n\n\nEvent Policies: Please Read SAAB Event Policies Prior To Registering.\nEvent Hotels Information: Please CLICK HERE for hotels information.\nEvent Speakers Information: Please CLICK HERE for more information about the conference speakers.\nEvent Agenda Information: Please CLICK HERE to access to conference agenda.\nConference Do’s & Don’ts: Please CLICK HERE to access to Conference Do’s & Don’ts.\nConference Overall Evaluation: Please CLICK HERE to submit a conference evaluation.\n\n\n\nRegistration Dates and Deadlines\n\nEarly Registration Deadline Ends: Friday\, March 4th\, 2022 \nLast Day to Register: Friday\, March 25th\, 2022 \nAfter this deadline\, no additional registration accepted without permission of SAAB National Headquarters Registration deadline may be affected by space limitation\, if the conference closes out sooner than the day listed. \nMarch 17th\, 2022 – Registration Refund Deadline – Last day for any refund\n(Please refer to cancellation and refund policy)
URL:https://saabnational.org/event/saab-national-conference-april-2022-brothers-connecting-at-the-gateway/
LOCATION:St Louis\, MO
CATEGORIES:National Events
END:VEVENT
BEGIN:VEVENT
DTSTART;TZID=UTC:20210319T000000
DTEND;TZID=UTC:20210320T235900
DTSTAMP:20260424T001123
CREATED:20200922T171706Z
LAST-MODIFIED:20210925T042814Z
UID:382-1616112000-1616284740@saabnational.org
SUMMARY:SAAB Leadership Training Summit 
DESCRIPTION:SAAB Fall Leadership Training Summit \nBrookhaven Country Club\, Dallas\, TX\nFriday\, March 19 & Saturday\, March 20\, 2021\n\n \n\nSummit Theme:\n“A Cause to Celebrate”\nSponsor a table of 10 students – $1\,500 \n\n\n  \n\n\nCan’t attend the Leadership Summit\, but want to make a donation to support this event \n\n \n\n \n“Registration is now open!!”\n \nClick Here to Register\n\n 
URL:https://saabnational.org/event/saab-leadership-training-summit/
LOCATION:Dallas\, TX\, Brookhaven Country Club\, Dallas\, TX\, United States
CATEGORIES:National Events,Regional Cluster Summits
END:VEVENT
BEGIN:VEVENT
DTSTART;TZID=UTC:20201213T080000
DTEND;TZID=UTC:20201216T170000
DTSTAMP:20260424T001123
CREATED:20201204T183610Z
LAST-MODIFIED:20210114T014314Z
UID:578-1607846400-1608138000@saabnational.org
SUMMARY:SAAB Event Test
DESCRIPTION:
URL:https://saabnational.org/event/saab-event-test/
LOCATION:Dallas\, TX\, Brookhaven Country Club\, Dallas\, TX\, United States
ATTACH;FMTTYPE=image/jpeg:https://saabnational.org/wp-content/uploads/2020/10/IMG_3501.jpg
END:VEVENT
END:VCALENDAR