BEGIN:VCALENDAR
VERSION:2.0
PRODID:-//SAAB (formerly known as Student African American Brotherhood) - ECPv6.15.3//NONSGML v1.0//EN
CALSCALE:GREGORIAN
METHOD:PUBLISH
X-WR-CALNAME:SAAB (formerly known as Student African American Brotherhood)
X-ORIGINAL-URL:https://saabnational.org
X-WR-CALDESC:Events for SAAB (formerly known as Student African American Brotherhood)
REFRESH-INTERVAL;VALUE=DURATION:PT1H
X-Robots-Tag:noindex
X-PUBLISHED-TTL:PT1H
BEGIN:VTIMEZONE
TZID:UTC
BEGIN:STANDARD
TZOFFSETFROM:+0000
TZOFFSETTO:+0000
TZNAME:UTC
DTSTART:20250101T000000
END:STANDARD
END:VTIMEZONE
BEGIN:VEVENT
DTSTART;TZID=UTC:20250327T080000
DTEND;TZID=UTC:20250328T190000
DTSTAMP:20260425T164708
CREATED:20231115T194127Z
LAST-MODIFIED:20250315T211821Z
UID:1573-1743062400-1743188400@saabnational.org
SUMMARY:2nd Annual SAAB Student Leadership Summit March 2025
DESCRIPTION:2nd Annual SAAB Student Leadership Summit March 2025\nDouble Tree Hotel by Hilton\nSpringfield\, MO 63101\nThursday\, March\, 27th – Friday\, March\, 28th 2025\n\n \n\nSummit Theme:\n“Embracing The Future Smarter…Stronger…Successful”\n\n \nCan’t attend the National Conference\, but want to make a donation to support this event. Donate Below! \n\n   \n\nRegistration is Closed!!!!\n \n\nImportant Registration Notes:\n\n\nEvent Policies: Please Read SAAB Event Policies Prior To Registering.\nEvent Hotels Information: Please CLICK HERE for hotels information.\nEvent Speakers Information: Please CLICK HERE for hotels information.\nEvent Agenda Information: Please CLICK HERE to access the conference agenda.\nConference Do’s & Don’ts: Please CLICK HERE to access to Conference Do’s & Don’ts.\nConference Overall Evaluation: Please CLICK HERE to submit a conference evaluation.\n\n\n\n \nRegistration Dates and Deadlines\n\nEarly Registration Deadline Ends: Friday\, February 28\, 2025 \nLast Day to Register: Friday\, March 14\, 2025 \nAfter this deadline\, no additional registration accepted without permission of SAAB National Headquarters Registration deadline may be affected by space limitation\, if the conference closes out sooner than the day listed. \nFriday\, March 14\, 2024 – Registration Refund Deadline – Last day for any refund\n(Please refer to cancellation and refund policy)\n 
URL:https://saabnational.org/event/annual-saab-student-leadership-summit-march-2025/
LOCATION:Double Tree Hotel By Hilton\, 2431 N. Glenstone Avenue\, Springfield\, MO\, 65803\, United States
CATEGORIES:Regional Cluster Summits
END:VEVENT
BEGIN:VEVENT
DTSTART;TZID=UTC:20260320T180000
DTEND;TZID=UTC:20260320T210000
DTSTAMP:20260425T164708
CREATED:20260119T161948Z
LAST-MODIFIED:20260218T034014Z
UID:5749-1774029600-1774040400@saabnational.org
SUMMARY:Heart Of Champions
DESCRIPTION:Heart Of Champions \nHickory Hills Country Club \nSpringfield\, MO 63101 \nMarch 20\,2026
URL:https://saabnational.org/event/heart-of-champions/
LOCATION:Hickory Hills Country Club\, 3909 E Cherry St\, Springfield\, MO\, 65809\, United States
END:VEVENT
BEGIN:VEVENT
DTSTART;TZID=UTC:20260326T080000
DTEND;TZID=UTC:20260327T190000
DTSTAMP:20260425T164708
CREATED:20250709T192827Z
LAST-MODIFIED:20260217T194041Z
UID:4418-1774512000-1774638000@saabnational.org
SUMMARY:3rd Annual SAAB Student Leadership Summit March 2026
DESCRIPTION:3rd Annual SAAB Student Leadership Summit March 2026\nDouble Tree Hotel by Hilton\nSpringfield\, MO 63101\nThursday\, March\, 26th – Friday\, March\, 27th 2026\n\n \n\nSummit Theme:\n“Embracing The Future With Meaning\, Purpose & Determination”\n\n \nClick Here to Register\nCan’t attend the National Conference\, but want to make a donation to support this event. Donate Below! \n\n   \nRegistration Open!!!!\n\n \n\n \n\nImportant Registration Notes:\n\n\nEvent Policies: Please Read SAAB Event Policies Prior To Registering.\nEvent Hotels Information: Please CLICK HERE for hotels information.\nEvent Speakers Information: Please TBA for speaker information.\nEvent Agenda Information: Please TBA to access the conference agenda.\nConference Do’s & Don’ts: Please CLICK HERE to access to Conference Do’s & Don’ts.\nConference Overall Evaluation: Please CLICK HERE to submit a conference evaluation.\n\n\n\n \nRegistration Dates and Deadlines\n\nEarly Registration Deadline Ends: Saturday\, February 28\, 2026 \nLast Day to Register: Saturday\, March 14\, 2026 \nAfter this deadline\, no additional registration accepted without permission of SAAB National Headquarters Registration deadline may be affected by space limitation\, if the conference closes out sooner than the day listed. \nSaturday\, March 14\, 2026 – Registration Refund Deadline – Last day for any refund\n(Please refer to cancellation and refund policy)\n 
URL:https://saabnational.org/event/3rd-annual-saab-student-leadership-summit-march-2026/
LOCATION:Double Tree Hotel By Hilton\, 2431 N. Glenstone Avenue\, Springfield\, MO\, 65803\, United States
CATEGORIES:Regional Cluster Summits
END:VEVENT
END:VCALENDAR